BEGIN:VCALENDAR
VERSION:2.0
PRODID:-//Northeast Pennsylvania Craft Brewery | Susquehanna Brewing Co. - ECPv6.15.18//NONSGML v1.0//EN
CALSCALE:GREGORIAN
METHOD:PUBLISH
X-WR-CALNAME:Northeast Pennsylvania Craft Brewery | Susquehanna Brewing Co.
X-ORIGINAL-URL:https://www.sbcbeer.com
X-WR-CALDESC:Events for Northeast Pennsylvania Craft Brewery | Susquehanna Brewing Co.
REFRESH-INTERVAL;VALUE=DURATION:PT1H
X-Robots-Tag:noindex
X-PUBLISHED-TTL:PT1H
BEGIN:VTIMEZONE
TZID:UTC
BEGIN:STANDARD
TZOFFSETFROM:+0000
TZOFFSETTO:+0000
TZNAME:UTC
DTSTART:20220101T000000
END:STANDARD
END:VTIMEZONE
BEGIN:VEVENT
DTSTART;TZID=UTC:20230113T080000
DTEND;TZID=UTC:20230113T170000
DTSTAMP:20260419T122139
CREATED:20221228T183826Z
LAST-MODIFIED:20221228T183826Z
UID:14528-1673596800-1673629200@www.sbcbeer.com
SUMMARY:Razz the Roof Release
DESCRIPTION:Join us in the brewery for the release of Razz Roof on draft or take it home in cans and bottles!
URL:https://www.sbcbeer.com/event/razz-the-roof-release/
LOCATION:Susquehanna Brewing Co. Tasting Room\, Pittston\, PA\, United States
ATTACH;FMTTYPE=image/jpeg:https://www.sbcbeer.com/wp-content/uploads/2019/12/82200496_2463776347064344_984187911882670080_o.jpg
END:VEVENT
BEGIN:VEVENT
DTSTART;TZID=UTC:20230113T190000
DTEND;TZID=UTC:20230113T220000
DTSTAMP:20260419T122139
CREATED:20221228T190759Z
LAST-MODIFIED:20221228T190759Z
UID:14532-1673636400-1673647200@www.sbcbeer.com
SUMMARY:Trainwreck at SBC
DESCRIPTION:Come hang out and enjoy rock and roll tunes from the 60’s – 2000s!
URL:https://www.sbcbeer.com/event/trainwreck-at-sbc/
LOCATION:PA
ATTACH;FMTTYPE=image/jpeg:https://www.sbcbeer.com/wp-content/uploads/2022/01/271316586_4462434037198555_2827021269328626124_n.jpg
END:VEVENT
END:VCALENDAR