BEGIN:VCALENDAR
VERSION:2.0
PRODID:-//Northeast Pennsylvania Craft Brewery | Susquehanna Brewing Co. - ECPv6.15.18//NONSGML v1.0//EN
CALSCALE:GREGORIAN
METHOD:PUBLISH
X-WR-CALNAME:Northeast Pennsylvania Craft Brewery | Susquehanna Brewing Co.
X-ORIGINAL-URL:https://www.sbcbeer.com
X-WR-CALDESC:Events for Northeast Pennsylvania Craft Brewery | Susquehanna Brewing Co.
REFRESH-INTERVAL;VALUE=DURATION:PT1H
X-Robots-Tag:noindex
X-PUBLISHED-TTL:PT1H
BEGIN:VTIMEZONE
TZID:UTC
BEGIN:STANDARD
TZOFFSETFROM:+0000
TZOFFSETTO:+0000
TZNAME:UTC
DTSTART:20220101T000000
END:STANDARD
END:VTIMEZONE
BEGIN:VEVENT
DTSTART;TZID=UTC:20230430T120000
DTEND;TZID=UTC:20230430T160000
DTSTAMP:20260420T021145
CREATED:20230403T214204Z
LAST-MODIFIED:20230403T214204Z
UID:14976-1682856000-1682870400@www.sbcbeer.com
SUMMARY:Small Business Sunday: Tea Time Cookies
DESCRIPTION:Tea Time Cookies\, LLC is a local custom cookie company that specializes in hand painted and hand designed home baked cookies. Their cookies perfectly coordinate with any special event or if you’re just in the mood for cookies! (PA licensed) \nCome out to support this great local business!
URL:https://www.sbcbeer.com/event/small-business-sunday-tea-time-cookies/
LOCATION:Susquehanna Brewing Co.\, 635 South Main St.\, Pittston\, PA\, 18640\, United States
ATTACH;FMTTYPE=image/jpeg:https://www.sbcbeer.com/wp-content/uploads/2023/03/Tea-Time.jpg
END:VEVENT
BEGIN:VEVENT
DTSTART;TZID=UTC:20230430T130000
DTEND;TZID=UTC:20230430T180000
DTSTAMP:20260420T021145
CREATED:20230403T214911Z
LAST-MODIFIED:20230403T214911Z
UID:14978-1682859600-1682877600@www.sbcbeer.com
SUMMARY:Tarot & Brews
DESCRIPTION:Jonathan Coyle from Tarot for Living will be taking appointments in the brewery! \nReadings are $45 and by appointment only. Included in the 30 minute reading is a hand selected energy stone/crystal to take home and a draft beer to enjoy during your reading. This is a cash only event. Reservations can be made by calling Jon at 570-762-2126
URL:https://www.sbcbeer.com/event/tarot-brews/
LOCATION:Susquehanna Brewing Co.\, 635 South Main St.\, Pittston\, PA\, 18640\, United States
ATTACH;FMTTYPE=image/jpeg:https://www.sbcbeer.com/wp-content/uploads/2023/04/tarot-brews.jpg
END:VEVENT
END:VCALENDAR