BEGIN:VCALENDAR
VERSION:2.0
PRODID:-//Northeast Pennsylvania Craft Brewery | Susquehanna Brewing Co. - ECPv6.15.18//NONSGML v1.0//EN
CALSCALE:GREGORIAN
METHOD:PUBLISH
X-WR-CALNAME:Northeast Pennsylvania Craft Brewery | Susquehanna Brewing Co.
X-ORIGINAL-URL:https://www.sbcbeer.com
X-WR-CALDESC:Events for Northeast Pennsylvania Craft Brewery | Susquehanna Brewing Co.
REFRESH-INTERVAL;VALUE=DURATION:PT1H
X-Robots-Tag:noindex
X-PUBLISHED-TTL:PT1H
BEGIN:VTIMEZONE
TZID:UTC
BEGIN:STANDARD
TZOFFSETFROM:+0000
TZOFFSETTO:+0000
TZNAME:UTC
DTSTART:20220101T000000
END:STANDARD
END:VTIMEZONE
BEGIN:VEVENT
DTSTART;VALUE=DATE:20230505
DTEND;VALUE=DATE:20230506
DTSTAMP:20260420T004258
CREATED:20230501T152714Z
LAST-MODIFIED:20230501T153508Z
UID:15088-1683244800-1683331199@www.sbcbeer.com
SUMMARY:Beer Release: Lima Cereveza
DESCRIPTION:Get excited because we are! Our original Susquehanna Cerveza but with Lime! Since we started making it\, we have said to add a lime. Well\, we finally did it! We can’t wait for you to tell us how you like it. This will be available in draft only for a limited time exclusively at the brewery. If you like it\, it might stick around and be available in cans!
URL:https://www.sbcbeer.com/event/beer-release-lima-cereveza/
LOCATION:Susquehanna Brewing Co. Tasting Room\, Pittston\, PA\, United States
ATTACH;FMTTYPE=image/png:https://www.sbcbeer.com/wp-content/uploads/2023/05/Lima-Cerveza-2.png
END:VEVENT
END:VCALENDAR