BEGIN:VCALENDAR
VERSION:2.0
PRODID:-//Northeast Pennsylvania Craft Brewery | Susquehanna Brewing Co. - ECPv6.15.18//NONSGML v1.0//EN
CALSCALE:GREGORIAN
METHOD:PUBLISH
X-ORIGINAL-URL:https://www.sbcbeer.com
X-WR-CALDESC:Events for Northeast Pennsylvania Craft Brewery | Susquehanna Brewing Co.
REFRESH-INTERVAL;VALUE=DURATION:PT1H
X-Robots-Tag:noindex
X-PUBLISHED-TTL:PT1H
BEGIN:VTIMEZONE
TZID:UTC
BEGIN:STANDARD
TZOFFSETFROM:+0000
TZOFFSETTO:+0000
TZNAME:UTC
DTSTART:20220101T000000
END:STANDARD
END:VTIMEZONE
BEGIN:VEVENT
DTSTART;TZID=UTC:20230506T120000
DTEND;TZID=UTC:20230506T220000
DTSTAMP:20260420T004543
CREATED:20230307T184444Z
LAST-MODIFIED:20230501T152341Z
UID:14911-1683374400-1683410400@www.sbcbeer.com
SUMMARY:Patio Grand Opening w/Rock God Radio
DESCRIPTION:Feel that sunshine! The patio is officially open and we’re celebrating all day! \nLupo Rosso will also be onsite Saturday (1-8pm) and Sunday (1-7pm) serving wood-fired pizzas! \nAfter a few beers level up with with Miss Rachel and get your face painted (2-6pm) then try your hand at axe throwing with Axe Attack (1-7pm)! \nFinish the day with the area’s premiere 80’s cover band Rock God Radio 6p-9pm! \nJoin us for killer music\, pizza\, fun and great beer while we welcome in the summer season! \n 
URL:https://www.sbcbeer.com/event/patio-grand-opening-w-bon-posion/
LOCATION:Susquehanna Brewing Co.\, 635 South Main St.\, Pittston\, PA\, 18640\, United States
ATTACH;FMTTYPE=image/jpeg:https://www.sbcbeer.com/wp-content/uploads/2023/03/Patio-Open-square.jpg
END:VEVENT
END:VCALENDAR