BEGIN:VCALENDAR
VERSION:2.0
PRODID:-//Northeast Pennsylvania Craft Brewery | Susquehanna Brewing Co. - ECPv6.15.18//NONSGML v1.0//EN
CALSCALE:GREGORIAN
METHOD:PUBLISH
X-WR-CALNAME:Northeast Pennsylvania Craft Brewery | Susquehanna Brewing Co.
X-ORIGINAL-URL:https://www.sbcbeer.com
X-WR-CALDESC:Events for Northeast Pennsylvania Craft Brewery | Susquehanna Brewing Co.
REFRESH-INTERVAL;VALUE=DURATION:PT1H
X-Robots-Tag:noindex
X-PUBLISHED-TTL:PT1H
BEGIN:VTIMEZONE
TZID:UTC
BEGIN:STANDARD
TZOFFSETFROM:+0000
TZOFFSETTO:+0000
TZNAME:UTC
DTSTART:20220101T000000
END:STANDARD
END:VTIMEZONE
BEGIN:VEVENT
DTSTART;TZID=UTC:20230509T180000
DTEND;TZID=UTC:20230509T210000
DTSTAMP:20260419T232909
CREATED:20230222T205340Z
LAST-MODIFIED:20230222T205340Z
UID:14871-1683655200-1683666000@www.sbcbeer.com
SUMMARY:Paint Night w/The Canvas Creation Company
DESCRIPTION:We love Moms. Bring yours out for some quality painting time and good beer!\npainting starts 630pm\n$35 per person\nincludes all painting supplies\, and canvas for you to take home and 2 drink tickets to enjoy SBC’s beverages. Must be 21 to consume or purchase alcohol.\nPurchase your seats today space is limited and fills fast.\nno refunds on ticket sales.\nA link will be provided to purchase your seats or call 570-817-0911\n\nuse the link to pay or call 570-817-0911 with questions.\nNO REFUNDS OR EXCHANGES
URL:https://www.sbcbeer.com/event/paint-night-w-the-canvas-creation-company/
LOCATION:Susquehanna Brewing Co.\, 635 South Main St.\, Pittston\, PA\, 18640\, United States
ATTACH;FMTTYPE=image/png:https://www.sbcbeer.com/wp-content/uploads/2023/02/Mothers-Day.png
END:VEVENT
END:VCALENDAR