BEGIN:VCALENDAR
VERSION:2.0
PRODID:-//Northeast Pennsylvania Craft Brewery | Susquehanna Brewing Co. - ECPv6.15.18//NONSGML v1.0//EN
CALSCALE:GREGORIAN
METHOD:PUBLISH
X-WR-CALNAME:Northeast Pennsylvania Craft Brewery | Susquehanna Brewing Co.
X-ORIGINAL-URL:https://www.sbcbeer.com
X-WR-CALDESC:Events for Northeast Pennsylvania Craft Brewery | Susquehanna Brewing Co.
REFRESH-INTERVAL;VALUE=DURATION:PT1H
X-Robots-Tag:noindex
X-PUBLISHED-TTL:PT1H
BEGIN:VTIMEZONE
TZID:UTC
BEGIN:STANDARD
TZOFFSETFROM:+0000
TZOFFSETTO:+0000
TZNAME:UTC
DTSTART:20220101T000000
END:STANDARD
END:VTIMEZONE
BEGIN:VEVENT
DTSTART;TZID=UTC:20230520T120000
DTEND;TZID=UTC:20230520T140000
DTSTAMP:20260420T004254
CREATED:20230403T213657Z
LAST-MODIFIED:20230403T213657Z
UID:14972-1684584000-1684591200@www.sbcbeer.com
SUMMARY:Brewga: Yoga & Beer
DESCRIPTION:Join Alyssa Miller from The Salt Barre in Pittston for an All Levels yoga class held at the Susquehanna Brewing Company located at 635 S. Main Street in Pittston\, PA.\nThis will go from 12pm-2pm on May 20\, 2023.\nBring your mat – we will not have extra. We will start with the yoga class inside the brewery and each person will receive two pints of beers for tasting! This is included in your ticket price. Feel free to relax and hang out in the new tasting room!\nHow do yoga and beer go together?\nHealth is a BALANCE\, right?! When we do yoga\, so often students immediately leave a class. Here\, we are encouraged to hang out and learn about those around us. Being social is a great way to relieve stress!\nTotal cost for this event is $22 – beer and yoga!\nPlease pre-register by visiting The Salt Barre’s Facebook event page
URL:https://www.sbcbeer.com/event/brewga-yoga-beer-6/
LOCATION:Susquehanna Brewing Co.\, 635 South Main St.\, Pittston\, PA\, 18640\, United States
ATTACH;FMTTYPE=image/jpeg:https://www.sbcbeer.com/wp-content/uploads/2022/10/Brewga.jpg
END:VEVENT
BEGIN:VEVENT
DTSTART;TZID=UTC:20230520T130000
DTEND;TZID=UTC:20230521T190000
DTSTAMP:20260420T004254
CREATED:20230501T155723Z
LAST-MODIFIED:20230525T173249Z
UID:15098-1684587600-1684695600@www.sbcbeer.com
SUMMARY:Food Truck: The Brunch Truck
DESCRIPTION:Onsite serving your favorite like Stuffed French Toast or Smash Burgers! \nSaturday 1- 8pm \nSunday 1 – 7pm
URL:https://www.sbcbeer.com/event/food-truck-the-brunch-truck/
LOCATION:Susquehanna Brewing Co.\, 635 South Main St.\, Pittston\, PA\, 18640\, United States
ATTACH;FMTTYPE=image/jpeg:https://www.sbcbeer.com/wp-content/uploads/2023/05/Brunch-Truck.jpg
END:VEVENT
BEGIN:VEVENT
DTSTART;TZID=UTC:20230520T190000
DTEND;TZID=UTC:20230520T220000
DTSTAMP:20260420T004254
CREATED:20230501T162012Z
LAST-MODIFIED:20230501T162716Z
UID:15101-1684609200-1684620000@www.sbcbeer.com
SUMMARY:Live Music: Upper Cutt
DESCRIPTION:Live music under the tent! Yes! Upper Cutt will be bringing your favorite rock hits to SBC!
URL:https://www.sbcbeer.com/event/live-music-upper-cutt/
LOCATION:Susquehanna Brewing Co.\, 635 South Main St.\, Pittston\, PA\, 18640\, United States
ATTACH;FMTTYPE=image/png:https://www.sbcbeer.com/wp-content/uploads/2023/04/Live-Music-square.png
END:VEVENT
END:VCALENDAR