BEGIN:VCALENDAR
VERSION:2.0
PRODID:-//Northeast Pennsylvania Craft Brewery | Susquehanna Brewing Co. - ECPv6.15.18//NONSGML v1.0//EN
CALSCALE:GREGORIAN
METHOD:PUBLISH
X-WR-CALNAME:Northeast Pennsylvania Craft Brewery | Susquehanna Brewing Co.
X-ORIGINAL-URL:https://www.sbcbeer.com
X-WR-CALDESC:Events for Northeast Pennsylvania Craft Brewery | Susquehanna Brewing Co.
REFRESH-INTERVAL;VALUE=DURATION:PT1H
X-Robots-Tag:noindex
X-PUBLISHED-TTL:PT1H
BEGIN:VTIMEZONE
TZID:UTC
BEGIN:STANDARD
TZOFFSETFROM:+0000
TZOFFSETTO:+0000
TZNAME:UTC
DTSTART:20220101T000000
END:STANDARD
END:VTIMEZONE
BEGIN:VEVENT
DTSTART;VALUE=DATE:20230526
DTEND;VALUE=DATE:20230527
DTSTAMP:20260420T004252
CREATED:20230501T155057Z
LAST-MODIFIED:20230511T170601Z
UID:15094-1685059200-1685145599@www.sbcbeer.com
SUMMARY:Beer Release: Bomb Pop
DESCRIPTION:Back by popular demand we have again teamed up with Funk Brewing to bring Bomb Pop back to the people of Northeast PA! This patriotic raspberry\, lemon shandy will make you smile ear to ear as it brings you back to your summertime rocket pop days. \nAvailable on draft and in 16oz cans at the brewery and wherever you buy good beer!
URL:https://www.sbcbeer.com/event/beer-release-bomb-pop/
LOCATION:Susquehanna Brewing Co.\, 635 South Main St.\, Pittston\, PA\, 18640\, United States
ATTACH;FMTTYPE=image/jpeg:https://www.sbcbeer.com/wp-content/uploads/2023/02/BombPopThumb.jpg
END:VEVENT
BEGIN:VEVENT
DTSTART;TZID=UTC:20230526T180000
DTEND;TZID=UTC:20230526T210000
DTSTAMP:20260420T004252
CREATED:20230501T163309Z
LAST-MODIFIED:20230501T163615Z
UID:15105-1685124000-1685134800@www.sbcbeer.com
SUMMARY:Live Music: The Rhythm Method
DESCRIPTION:Live music\, local bands\, good beer\, do you need anything else? \nThe Rhythm Method plays the best mix of all your favorite songs and some you forgot you loved!
URL:https://www.sbcbeer.com/event/live-music-the-rhythm-method-2/
LOCATION:Susquehanna Brewing Co.\, 635 South Main St.\, Pittston\, PA\, 18640\, United States
ATTACH;FMTTYPE=image/png:https://www.sbcbeer.com/wp-content/uploads/2023/04/Live-Music-square.png
END:VEVENT
END:VCALENDAR