BEGIN:VCALENDAR
VERSION:2.0
PRODID:-//Northeast Pennsylvania Craft Brewery | Susquehanna Brewing Co. - ECPv6.15.18//NONSGML v1.0//EN
CALSCALE:GREGORIAN
METHOD:PUBLISH
X-ORIGINAL-URL:https://www.sbcbeer.com
X-WR-CALDESC:Events for Northeast Pennsylvania Craft Brewery | Susquehanna Brewing Co.
REFRESH-INTERVAL;VALUE=DURATION:PT1H
X-Robots-Tag:noindex
X-PUBLISHED-TTL:PT1H
BEGIN:VTIMEZONE
TZID:UTC
BEGIN:STANDARD
TZOFFSETFROM:+0000
TZOFFSETTO:+0000
TZNAME:UTC
DTSTART:20220101T000000
END:STANDARD
END:VTIMEZONE
BEGIN:VEVENT
DTSTART;TZID=UTC:20230528T120000
DTEND;TZID=UTC:20230528T160000
DTSTAMP:20260420T015653
CREATED:20230501T164316Z
LAST-MODIFIED:20230501T164754Z
UID:15109-1685275200-1685289600@www.sbcbeer.com
SUMMARY:Small Business Sunday: Farm Nest Finds
DESCRIPTION:Help us in welcoming Kaitlin to SBC! Kaitlin is the owner of Farm Nest Finds a custom clay jewelry company! She has amazing pieces for all occasions and seasons! \nStop on over at the brewery to checkout her selection and have a beer while you’re here!
URL:https://www.sbcbeer.com/event/small-business-sunday-farm-nest-finds/
LOCATION:Susquehanna Brewing Co.\, 635 South Main St.\, Pittston\, PA\, 18640\, United States
ATTACH;FMTTYPE=image/jpeg:https://www.sbcbeer.com/wp-content/uploads/2023/05/Farm-Nest-Finds.jpg
END:VEVENT
END:VCALENDAR