BEGIN:VCALENDAR
VERSION:2.0
PRODID:-//Northeast Pennsylvania Craft Brewery | Susquehanna Brewing Co. - ECPv6.15.18//NONSGML v1.0//EN
CALSCALE:GREGORIAN
METHOD:PUBLISH
X-ORIGINAL-URL:https://www.sbcbeer.com
X-WR-CALDESC:Events for Northeast Pennsylvania Craft Brewery | Susquehanna Brewing Co.
REFRESH-INTERVAL;VALUE=DURATION:PT1H
X-Robots-Tag:noindex
X-PUBLISHED-TTL:PT1H
BEGIN:VTIMEZONE
TZID:UTC
BEGIN:STANDARD
TZOFFSETFROM:+0000
TZOFFSETTO:+0000
TZNAME:UTC
DTSTART:20220101T000000
END:STANDARD
END:VTIMEZONE
BEGIN:VEVENT
DTSTART;TZID=UTC:20230609T190000
DTEND;TZID=UTC:20230624T210000
DTSTAMP:20260419T212259
CREATED:20230525T173700Z
LAST-MODIFIED:20230525T173700Z
UID:15202-1686337200-1687640400@www.sbcbeer.com
SUMMARY:Live Music: AD/HD
DESCRIPTION:Rock & Roll all night long with the areas own AD/HD!
URL:https://www.sbcbeer.com/event/live-music-ad-hd-2/
LOCATION:Susquehanna Brewing Co.\, 635 South Main St.\, Pittston\, PA\, 18640\, United States
ATTACH;FMTTYPE=image/png:https://www.sbcbeer.com/wp-content/uploads/2023/04/Live-Music-square.png
END:VEVENT
BEGIN:VEVENT
DTSTART;VALUE=DATE:20230618
DTEND;VALUE=DATE:20230619
DTSTAMP:20260419T212259
CREATED:20230525T182333Z
LAST-MODIFIED:20230525T182333Z
UID:15215-1687046400-1687132799@www.sbcbeer.com
SUMMARY:Father's Day Deal
DESCRIPTION:We love our Dads and want to meet yours! Bring your Dad in today and receive 10% off your tab. While it may be tempting\, don’t make him pay…
URL:https://www.sbcbeer.com/event/fathers-day-deal/
LOCATION:Susquehanna Brewing Co.\, 635 South Main St.\, Pittston\, PA\, 18640\, United States
ATTACH;FMTTYPE=image/jpeg:https://www.sbcbeer.com/wp-content/uploads/2023/01/sbcgroup.jpg
END:VEVENT
BEGIN:VEVENT
DTSTART;TZID=UTC:20230617T130000
DTEND;TZID=UTC:20230617T200000
DTSTAMP:20260419T212259
CREATED:20230525T181903Z
LAST-MODIFIED:20230525T181903Z
UID:15212-1687006800-1687032000@www.sbcbeer.com
SUMMARY:Food Truck: The Brunch Truck
DESCRIPTION:Their menu doesn’t quit! Something for everyone and oh so good!
URL:https://www.sbcbeer.com/event/food-truck-the-brunch-truck-2/
LOCATION:PA
ATTACH;FMTTYPE=image/jpeg:https://www.sbcbeer.com/wp-content/uploads/2023/05/Brunch-Truck.jpg
END:VEVENT
END:VCALENDAR