BEGIN:VCALENDAR
VERSION:2.0
PRODID:-//Northeast Pennsylvania Craft Brewery | Susquehanna Brewing Co. - ECPv6.15.18//NONSGML v1.0//EN
CALSCALE:GREGORIAN
METHOD:PUBLISH
X-ORIGINAL-URL:https://www.sbcbeer.com
X-WR-CALDESC:Events for Northeast Pennsylvania Craft Brewery | Susquehanna Brewing Co.
REFRESH-INTERVAL;VALUE=DURATION:PT1H
X-Robots-Tag:noindex
X-PUBLISHED-TTL:PT1H
BEGIN:VTIMEZONE
TZID:UTC
BEGIN:STANDARD
TZOFFSETFROM:+0000
TZOFFSETTO:+0000
TZNAME:UTC
DTSTART:20220101T000000
END:STANDARD
END:VTIMEZONE
BEGIN:VEVENT
DTSTART;VALUE=DATE:20230630
DTEND;VALUE=DATE:20230701
DTSTAMP:20260419T184253
CREATED:20230616T172934Z
LAST-MODIFIED:20230622T171052Z
UID:15273-1688083200-1688169599@www.sbcbeer.com
SUMMARY:Beer Release: Atomic Cherry Pie
DESCRIPTION:Our next collab brew with Funk Brewing is ready! \nAtomic Cherry Pie is an imperial shandy that has the sweet innocence of a favorite Fourth of July dessert with the atomic punch of flavor fireworks! Beautifully balanced cherry flavored with a hint of vanilla ice cream we have done it again and crafted this summer’s favorite beer. Don’t believe us? Come down to the brewery and see for yourself. \nAvailable on draft and in 16oz cans.
URL:https://www.sbcbeer.com/event/beer-release-atomic-cherry-pie/
LOCATION:Susquehanna Brewing Co.\, 635 South Main St.\, Pittston\, PA\, 18640\, United States
ATTACH;FMTTYPE=image/jpeg:https://www.sbcbeer.com/wp-content/uploads/2023/06/Atomic-Cherry-Pie-2-crop.jpg
END:VEVENT
BEGIN:VEVENT
DTSTART;TZID=UTC:20230630T180000
DTEND;TZID=UTC:20230630T210000
DTSTAMP:20260419T184254
CREATED:20230525T192948Z
LAST-MODIFIED:20230525T192948Z
UID:15239-1688148000-1688158800@www.sbcbeer.com
SUMMARY:Live Music: Triple Fret
DESCRIPTION:A classic trio that spans the decades. Good music done right.
URL:https://www.sbcbeer.com/event/live-music-triple-fret/
LOCATION:Susquehanna Brewing Co.\, 635 South Main St.\, Pittston\, PA\, 18640\, United States
ATTACH;FMTTYPE=image/png:https://www.sbcbeer.com/wp-content/uploads/2023/04/Live-Music-square.png
END:VEVENT
END:VCALENDAR