BEGIN:VCALENDAR
VERSION:2.0
PRODID:-//Northeast Pennsylvania Craft Brewery | Susquehanna Brewing Co. - ECPv6.15.18//NONSGML v1.0//EN
CALSCALE:GREGORIAN
METHOD:PUBLISH
X-ORIGINAL-URL:https://www.sbcbeer.com
X-WR-CALDESC:Events for Northeast Pennsylvania Craft Brewery | Susquehanna Brewing Co.
REFRESH-INTERVAL;VALUE=DURATION:PT1H
X-Robots-Tag:noindex
X-PUBLISHED-TTL:PT1H
BEGIN:VTIMEZONE
TZID:UTC
BEGIN:STANDARD
TZOFFSETFROM:+0000
TZOFFSETTO:+0000
TZNAME:UTC
DTSTART:20220101T000000
END:STANDARD
END:VTIMEZONE
BEGIN:VEVENT
DTSTART;VALUE=DATE:20230707
DTEND;VALUE=DATE:20230708
DTSTAMP:20260419T184219
CREATED:20230622T173918Z
LAST-MODIFIED:20230622T173918Z
UID:15302-1688688000-1688774399@www.sbcbeer.com
SUMMARY:Beer Release: Suck On This! Sour Watermelon
DESCRIPTION:Yep\, we’re canning it this time! Suck on This! Sour Watermelon is a surprising summer treat just waiting for you to come and get it! \nAvailable on draft and in 12oz cans!
URL:https://www.sbcbeer.com/event/beer-release-suck-on-this-sour-watermelon/
LOCATION:Susquehanna Brewing Co.\, 635 South Main St.\, Pittston\, PA\, 18640\, United States
ATTACH;FMTTYPE=image/jpeg:https://www.sbcbeer.com/wp-content/uploads/2023/04/SuckonWatermelon_Sq.jpg
END:VEVENT
BEGIN:VEVENT
DTSTART;TZID=UTC:20230707T140000
DTEND;TZID=UTC:20230707T210000
DTSTAMP:20260419T184219
CREATED:20230622T172942Z
LAST-MODIFIED:20230622T172942Z
UID:15297-1688738400-1688763600@www.sbcbeer.com
SUMMARY:Food Truck: Cousins Maine Lobster
DESCRIPTION:Cousins is heading back to the brewery to join our summer party! \nStop down to grab a beer\, listen to some tunes and enjoy a summer night of LOBSTER!
URL:https://www.sbcbeer.com/event/food-truck-cousins-maine-lobster/
LOCATION:Susquehanna Brewing Co.\, 635 South Main St.\, Pittston\, PA\, 18640\, United States
ATTACH;FMTTYPE=image/png:https://www.sbcbeer.com/wp-content/uploads/2023/02/cousins-lobster.png
END:VEVENT
BEGIN:VEVENT
DTSTART;TZID=UTC:20230707T190000
DTEND;TZID=UTC:20230707T220000
DTSTAMP:20260419T184219
CREATED:20230622T173502Z
LAST-MODIFIED:20230622T173604Z
UID:15299-1688756400-1688767200@www.sbcbeer.com
SUMMARY:Live Music: Elephants Dancing
DESCRIPTION:We’re the next stop on their East Coast\, Chill Like Penguins Tour! Enjoy the beachy reggae sounds while Sucking On Sour Watermelon and savoring sweet lobster! This will be a sweet summer night…
URL:https://www.sbcbeer.com/event/live-music-elephants-dancing/
LOCATION:Susquehanna Brewing Co.\, 635 South Main St.\, Pittston\, PA\, 18640\, United States
ATTACH;FMTTYPE=image/jpeg:https://www.sbcbeer.com/wp-content/uploads/2023/06/Elephants-Dancing.jpg
END:VEVENT
END:VCALENDAR