BEGIN:VCALENDAR
VERSION:2.0
PRODID:-//Northeast Pennsylvania Craft Brewery | Susquehanna Brewing Co. - ECPv6.15.18//NONSGML v1.0//EN
CALSCALE:GREGORIAN
METHOD:PUBLISH
X-WR-CALNAME:Northeast Pennsylvania Craft Brewery | Susquehanna Brewing Co.
X-ORIGINAL-URL:https://www.sbcbeer.com
X-WR-CALDESC:Events for Northeast Pennsylvania Craft Brewery | Susquehanna Brewing Co.
REFRESH-INTERVAL;VALUE=DURATION:PT1H
X-Robots-Tag:noindex
X-PUBLISHED-TTL:PT1H
BEGIN:VTIMEZONE
TZID:UTC
BEGIN:STANDARD
TZOFFSETFROM:+0000
TZOFFSETTO:+0000
TZNAME:UTC
DTSTART:20220101T000000
END:STANDARD
END:VTIMEZONE
BEGIN:VEVENT
DTSTART;TZID=UTC:20230709T130000
DTEND;TZID=UTC:20230709T170000
DTSTAMP:20260419T184753
CREATED:20230622T181404Z
LAST-MODIFIED:20230622T181404Z
UID:15308-1688907600-1688922000@www.sbcbeer.com
SUMMARY:Greater Pittston Santa Squad Christmas in July
DESCRIPTION:Come out & Join the fun! Door prizes\, 50/50 and raffles! \nFeaturing Special Guests \nThe Mere Mortals and Bugeye McGuire \n$30 per person includes 2 draft beers and food buffet from over 30 local restaurants! | $20 for 21 years old and younger. Tickets purchase in advance is recommended. Cash\, venmo\, or checks are payable to: Greater Pittston Santa Squad \nContact Tony Marranca -570-299-0086 or Gary Worosilla – 570-498-5546 \n 
URL:https://www.sbcbeer.com/event/greater-pittston-santa-squad-christmas-in-july/
LOCATION:Susquehanna Brewing Co.\, 635 South Main St.\, Pittston\, PA\, 18640\, United States
ATTACH;FMTTYPE=image/jpeg:https://www.sbcbeer.com/wp-content/uploads/2023/06/Santa-Squad-2.jpg
END:VEVENT
END:VCALENDAR