BEGIN:VCALENDAR
VERSION:2.0
PRODID:-//Northeast Pennsylvania Craft Brewery | Susquehanna Brewing Co. - ECPv6.15.18//NONSGML v1.0//EN
CALSCALE:GREGORIAN
METHOD:PUBLISH
X-ORIGINAL-URL:https://www.sbcbeer.com
X-WR-CALDESC:Events for Northeast Pennsylvania Craft Brewery | Susquehanna Brewing Co.
REFRESH-INTERVAL;VALUE=DURATION:PT1H
X-Robots-Tag:noindex
X-PUBLISHED-TTL:PT1H
BEGIN:VTIMEZONE
TZID:UTC
BEGIN:STANDARD
TZOFFSETFROM:+0000
TZOFFSETTO:+0000
TZNAME:UTC
DTSTART:20220101T000000
END:STANDARD
END:VTIMEZONE
BEGIN:VEVENT
DTSTART;TZID=UTC:20230723T120000
DTEND;TZID=UTC:20230723T160000
DTSTAMP:20260419T184300
CREATED:20230622T185617Z
LAST-MODIFIED:20230622T185617Z
UID:15321-1690113600-1690128000@www.sbcbeer.com
SUMMARY:Small Business Sunday w/ Skinny Dippers Sweets and Treats
DESCRIPTION:Skinny Dippers: Sweets and Treats! Makes chocolate dipped treats such as pretzels\, assorted cookies\, Swedish fish\, Rice Krispies and more! They’ll be hanging out at the brewery 12pm – 4pm! Stop in for a beer and see what they have today! \n 
URL:https://www.sbcbeer.com/event/small-business-sunday-w-skinny-dippers-sweets-and-treats/
LOCATION:Susquehanna Brewing Co.\, 635 South Main St.\, Pittston\, PA\, 18640\, United States
END:VEVENT
BEGIN:VEVENT
DTSTART;TZID=UTC:20230607T160000
DTEND;TZID=UTC:20230607T200000
DTSTAMP:20260419T184300
CREATED:20230525T183057Z
LAST-MODIFIED:20230525T183057Z
UID:15217-1686153600-1686168000@www.sbcbeer.com
SUMMARY:Food Truck: Lupo Rosso Wood-fired Pizza
DESCRIPTION:Is your mouth watering just reading that? Just wait until you get here. Yep\, it’s that good. \nFresh made pizzas in a wood-fired oven right when you order them plus have you tried the cannoli?!
URL:https://www.sbcbeer.com/event/food-truck-lupo-rosso-wood-fired-pizza/
LOCATION:Susquehanna Brewing Co.\, 635 South Main St.\, Pittston\, PA\, 18640\, United States
ATTACH;FMTTYPE=image/jpeg:https://www.sbcbeer.com/wp-content/uploads/2023/05/Lupo-Rosso.jpg
END:VEVENT
END:VCALENDAR