BEGIN:VCALENDAR
VERSION:2.0
PRODID:-//Northeast Pennsylvania Craft Brewery | Susquehanna Brewing Co. - ECPv6.15.18//NONSGML v1.0//EN
CALSCALE:GREGORIAN
METHOD:PUBLISH
X-ORIGINAL-URL:https://www.sbcbeer.com
X-WR-CALDESC:Events for Northeast Pennsylvania Craft Brewery | Susquehanna Brewing Co.
REFRESH-INTERVAL;VALUE=DURATION:PT1H
X-Robots-Tag:noindex
X-PUBLISHED-TTL:PT1H
BEGIN:VTIMEZONE
TZID:UTC
BEGIN:STANDARD
TZOFFSETFROM:+0000
TZOFFSETTO:+0000
TZNAME:UTC
DTSTART:20220101T000000
END:STANDARD
END:VTIMEZONE
BEGIN:VEVENT
DTSTART;TZID=UTC:20230730T130000
DTEND;TZID=UTC:20230730T160000
DTSTAMP:20260419T184302
CREATED:20230726T164134Z
LAST-MODIFIED:20230726T164134Z
UID:15348-1690722000-1690732800@www.sbcbeer.com
SUMMARY:Bash For the Brave
DESCRIPTION:Patriot Cove in Noxen\, PA is a beautiful area for Veterans and First Responders to heal and help to adapt to life after service. This event will be raising money and awareness for much needed equipment for this location. \nGet ready for a fun filled day at SBC! Hot Dog eating contest\, live music\, dunk tank\, face painting\, food trucks and more! \nTickets are $5 in advance and $6 at the door\, children under 10 are free. To purchase tickets in advance you can do so using Venmo or Paypal and comment the number of tickets and how many adults and children. Tickets can be picked up the day of the event. \nVenmo – https://venmo.com/u/Smecca \nPaypal – @sarahmecca \nOrganized and Sponsored by Classic Properties\, Wetzel Abstract and My City Lending
URL:https://www.sbcbeer.com/event/bash-for-the-brave/
LOCATION:Susquehanna Brewing Co.\, 635 South Main St.\, Pittston\, PA\, 18640\, United States
ATTACH;FMTTYPE=image/png:https://www.sbcbeer.com/wp-content/uploads/2023/07/Bash-for-the-Brave.png
END:VEVENT
END:VCALENDAR