BEGIN:VCALENDAR
VERSION:2.0
PRODID:-//Northeast Pennsylvania Craft Brewery | Susquehanna Brewing Co. - ECPv6.15.18//NONSGML v1.0//EN
CALSCALE:GREGORIAN
METHOD:PUBLISH
X-WR-CALNAME:Northeast Pennsylvania Craft Brewery | Susquehanna Brewing Co.
X-ORIGINAL-URL:https://www.sbcbeer.com
X-WR-CALDESC:Events for Northeast Pennsylvania Craft Brewery | Susquehanna Brewing Co.
REFRESH-INTERVAL;VALUE=DURATION:PT1H
X-Robots-Tag:noindex
X-PUBLISHED-TTL:PT1H
BEGIN:VTIMEZONE
TZID:UTC
BEGIN:STANDARD
TZOFFSETFROM:+0000
TZOFFSETTO:+0000
TZNAME:UTC
DTSTART:20220101T000000
END:STANDARD
END:VTIMEZONE
BEGIN:VEVENT
DTSTART;TZID=UTC:20230603T130000
DTEND;TZID=UTC:20230603T200000
DTSTAMP:20260419T173043
CREATED:20230525T171452Z
LAST-MODIFIED:20230525T174143Z
UID:15195-1685797200-1685822400@www.sbcbeer.com
SUMMARY:Food Truck: Suraci's
DESCRIPTION:High quality Italian food? Yes\, please! These sandwiches and classics are too good to pass up!
URL:https://www.sbcbeer.com/event/food-truck-suracis/
LOCATION:Susquehanna Brewing Co.\, 635 South Main St.\, Pittston\, PA\, 18640\, United States
ATTACH;FMTTYPE=image/jpeg:https://www.sbcbeer.com/wp-content/uploads/2023/05/Suraci.jpg
END:VEVENT
END:VCALENDAR