BEGIN:VCALENDAR
VERSION:2.0
PRODID:-//Northeast Pennsylvania Craft Brewery | Susquehanna Brewing Co. - ECPv6.15.18//NONSGML v1.0//EN
CALSCALE:GREGORIAN
METHOD:PUBLISH
X-WR-CALNAME:Northeast Pennsylvania Craft Brewery | Susquehanna Brewing Co.
X-ORIGINAL-URL:https://www.sbcbeer.com
X-WR-CALDESC:Events for Northeast Pennsylvania Craft Brewery | Susquehanna Brewing Co.
REFRESH-INTERVAL;VALUE=DURATION:PT1H
X-Robots-Tag:noindex
X-PUBLISHED-TTL:PT1H
BEGIN:VTIMEZONE
TZID:UTC
BEGIN:STANDARD
TZOFFSETFROM:+0000
TZOFFSETTO:+0000
TZNAME:UTC
DTSTART:20220101T000000
END:STANDARD
END:VTIMEZONE
BEGIN:VEVENT
DTSTART;TZID=UTC:20230811T140000
DTEND;TZID=UTC:20230811T210000
DTSTAMP:20260419T184744
CREATED:20230811T171459Z
LAST-MODIFIED:20230811T171459Z
UID:15353-1691762400-1691787600@www.sbcbeer.com
SUMMARY:Food Truck: Snook's Wings & Things
DESCRIPTION:Wings\, burgers\, cheesesteaks… Yeah they’ve got that and more and they’re doing right!
URL:https://www.sbcbeer.com/event/food-truck-snooks-wings-things/
LOCATION:Susquehanna Brewing Co.\, 635 South Main St.\, Pittston\, PA\, 18640\, United States
END:VEVENT
BEGIN:VEVENT
DTSTART;TZID=UTC:20230402T180000
DTEND;TZID=UTC:20230402T203000
DTSTAMP:20260419T184744
CREATED:20230302T203846Z
LAST-MODIFIED:20230811T171737Z
UID:14902-1680458400-1680467400@www.sbcbeer.com
SUMMARY:Comedy Night
DESCRIPTION:Herron Entertainment has returned with another round of comedians! Get your tickets through the link on Facebook and head to the brewery for an evening of laughter and great beer!
URL:https://www.sbcbeer.com/event/comedy-night-2/
LOCATION:Susquehanna Brewing Co.\, 635 South Main St.\, Pittston\, PA\, 18640\, United States
ATTACH;FMTTYPE=image/jpeg:https://www.sbcbeer.com/wp-content/uploads/2022/11/comedy-tour.jpg
END:VEVENT
END:VCALENDAR