BEGIN:VCALENDAR
VERSION:2.0
PRODID:-//Northeast Pennsylvania Craft Brewery | Susquehanna Brewing Co. - ECPv6.15.18//NONSGML v1.0//EN
CALSCALE:GREGORIAN
METHOD:PUBLISH
X-WR-CALNAME:Northeast Pennsylvania Craft Brewery | Susquehanna Brewing Co.
X-ORIGINAL-URL:https://www.sbcbeer.com
X-WR-CALDESC:Events for Northeast Pennsylvania Craft Brewery | Susquehanna Brewing Co.
REFRESH-INTERVAL;VALUE=DURATION:PT1H
X-Robots-Tag:noindex
X-PUBLISHED-TTL:PT1H
BEGIN:VTIMEZONE
TZID:UTC
BEGIN:STANDARD
TZOFFSETFROM:+0000
TZOFFSETTO:+0000
TZNAME:UTC
DTSTART:20220101T000000
END:STANDARD
END:VTIMEZONE
BEGIN:VEVENT
DTSTART;VALUE=DATE:20230901
DTEND;VALUE=DATE:20230902
DTSTAMP:20260419T195156
CREATED:20230818T194520Z
LAST-MODIFIED:20230818T194520Z
UID:15377-1693526400-1693612799@www.sbcbeer.com
SUMMARY:Beer Release: Suck on This Sour Raspberry
DESCRIPTION:We have been loving our Suck on This series and this is no exception with Sour Raspberry! Perfect balance of sour and tart\, you’ll sip this for a while. \nAvailable in cans and draft \n 
URL:https://www.sbcbeer.com/event/beer-release-suck-on-this-sour-raspberry/
LOCATION:Susquehanna Brewing Co. Tasting Room\, Pittston\, PA\, United States
ATTACH;FMTTYPE=image/jpeg:https://www.sbcbeer.com/wp-content/uploads/2023/08/IMG_0484.jpeg
END:VEVENT
END:VCALENDAR