BEGIN:VCALENDAR
VERSION:2.0
PRODID:-//Northeast Pennsylvania Craft Brewery | Susquehanna Brewing Co. - ECPv6.15.18//NONSGML v1.0//EN
CALSCALE:GREGORIAN
METHOD:PUBLISH
X-ORIGINAL-URL:https://www.sbcbeer.com
X-WR-CALDESC:Events for Northeast Pennsylvania Craft Brewery | Susquehanna Brewing Co.
REFRESH-INTERVAL;VALUE=DURATION:PT1H
X-Robots-Tag:noindex
X-PUBLISHED-TTL:PT1H
BEGIN:VTIMEZONE
TZID:UTC
BEGIN:STANDARD
TZOFFSETFROM:+0000
TZOFFSETTO:+0000
TZNAME:UTC
DTSTART:20220101T000000
END:STANDARD
END:VTIMEZONE
BEGIN:VEVENT
DTSTART;TZID=UTC:20230823T160000
DTEND;TZID=UTC:20230823T210000
DTSTAMP:20260419T160155
CREATED:20230818T171937Z
LAST-MODIFIED:20230927T174912Z
UID:15372-1692806400-1692824400@www.sbcbeer.com
SUMMARY:Food Truck: Cibo's Pizza
DESCRIPTION:Homemade\, onsite pizza\, stromboli’s\, wraps and more! \nYou won’t find anything you don’t like!
URL:https://www.sbcbeer.com/event/food-truck-cibos-pizza-2/
LOCATION:PA
ATTACH;FMTTYPE=image/jpeg:https://www.sbcbeer.com/wp-content/uploads/2023/08/Cibo-truck-dark-scaled.jpg
END:VEVENT
END:VCALENDAR