BEGIN:VCALENDAR
VERSION:2.0
PRODID:-//Northeast Pennsylvania Craft Brewery | Susquehanna Brewing Co. - ECPv6.15.18//NONSGML v1.0//EN
CALSCALE:GREGORIAN
METHOD:PUBLISH
X-WR-CALNAME:Northeast Pennsylvania Craft Brewery | Susquehanna Brewing Co.
X-ORIGINAL-URL:https://www.sbcbeer.com
X-WR-CALDESC:Events for Northeast Pennsylvania Craft Brewery | Susquehanna Brewing Co.
REFRESH-INTERVAL;VALUE=DURATION:PT1H
X-Robots-Tag:noindex
X-PUBLISHED-TTL:PT1H
BEGIN:VTIMEZONE
TZID:UTC
BEGIN:STANDARD
TZOFFSETFROM:+0000
TZOFFSETTO:+0000
TZNAME:UTC
DTSTART:20220101T000000
END:STANDARD
END:VTIMEZONE
BEGIN:VEVENT
DTSTART;TZID=UTC:20230513T180000
DTEND;TZID=UTC:20230513T210000
DTSTAMP:20260419T171510
CREATED:20230501T153524Z
LAST-MODIFIED:20230705T155532Z
UID:15091-1684000800-1684011600@www.sbcbeer.com
SUMMARY:Live Music: Heart of Stone
DESCRIPTION:Classic covers of the Rolling Stones with Heart of Stone! Don’t miss this performance under the tent!
URL:https://www.sbcbeer.com/event/live-music-heart-of-stone/
LOCATION:Susquehanna Brewing Co.\, 635 South Main St.\, Pittston\, PA\, 18640\, United States
ATTACH;FMTTYPE=image/png:https://www.sbcbeer.com/wp-content/uploads/2023/04/Live-Music-square.png
END:VEVENT
END:VCALENDAR