BEGIN:VCALENDAR
VERSION:2.0
PRODID:-//Northeast Pennsylvania Craft Brewery | Susquehanna Brewing Co. - ECPv6.15.18//NONSGML v1.0//EN
CALSCALE:GREGORIAN
METHOD:PUBLISH
X-WR-CALNAME:Northeast Pennsylvania Craft Brewery | Susquehanna Brewing Co.
X-ORIGINAL-URL:https://www.sbcbeer.com
X-WR-CALDESC:Events for Northeast Pennsylvania Craft Brewery | Susquehanna Brewing Co.
REFRESH-INTERVAL;VALUE=DURATION:PT1H
X-Robots-Tag:noindex
X-PUBLISHED-TTL:PT1H
BEGIN:VTIMEZONE
TZID:UTC
BEGIN:STANDARD
TZOFFSETFROM:+0000
TZOFFSETTO:+0000
TZNAME:UTC
DTSTART:20220101T000000
END:STANDARD
END:VTIMEZONE
BEGIN:VEVENT
DTSTART;TZID=UTC:20231104T120000
DTEND;TZID=UTC:20231104T220000
DTSTAMP:20260419T144912
CREATED:20231102T172423Z
LAST-MODIFIED:20231102T172423Z
UID:15475-1699099200-1699135200@www.sbcbeer.com
SUMMARY:Ale Jam By Kraken Boardsports
DESCRIPTION:Kraken Boardsports presents Alejam! \nIt’s time to kick off winter the Kraken way! They’ll be dropping a mound of fresh snow right in our lot for a full day of snowboarding\, beer & food and when the snowboarding fun is done\, live music fills the brewery! \n 
URL:https://www.sbcbeer.com/event/ale-jam-by-kraken-boardsports/
LOCATION:Susquehanna Brewing Co.\, 635 South Main St.\, Pittston\, PA\, 18640\, United States
ATTACH;FMTTYPE=image/jpeg:https://www.sbcbeer.com/wp-content/uploads/2023/11/Alejam-23.jpg
END:VEVENT
END:VCALENDAR