BEGIN:VCALENDAR
VERSION:2.0
PRODID:-//Northeast Pennsylvania Craft Brewery | Susquehanna Brewing Co. - ECPv6.15.18//NONSGML v1.0//EN
CALSCALE:GREGORIAN
METHOD:PUBLISH
X-WR-CALNAME:Northeast Pennsylvania Craft Brewery | Susquehanna Brewing Co.
X-ORIGINAL-URL:https://www.sbcbeer.com
X-WR-CALDESC:Events for Northeast Pennsylvania Craft Brewery | Susquehanna Brewing Co.
REFRESH-INTERVAL;VALUE=DURATION:PT1H
X-Robots-Tag:noindex
X-PUBLISHED-TTL:PT1H
BEGIN:VTIMEZONE
TZID:UTC
BEGIN:STANDARD
TZOFFSETFROM:+0000
TZOFFSETTO:+0000
TZNAME:UTC
DTSTART:20220101T000000
END:STANDARD
END:VTIMEZONE
BEGIN:VEVENT
DTSTART;TZID=UTC:20231107T180000
DTEND;TZID=UTC:20231107T200000
DTSTAMP:20260419T144823
CREATED:20231102T174119Z
LAST-MODIFIED:20231102T174119Z
UID:15482-1699380000-1699387200@www.sbcbeer.com
SUMMARY:Build a Board w/the Cheese Lady
DESCRIPTION:Cheese & Charcuterie ‘Build a Board’ Workshop w/The Cheese Lady – How well do you know your cheese? Join the area’s resident Cheese Lady\, Suzanne Roth\, as she guides you through building the perfect board\, beer and cheese pairing\, fun facts and history all about cheese! Tickets are $45 per person or $75 per couple and include a complimentary SBC beer and your own expertly crafted creation to take home. Advanced registration is required. To register email info@cheese-lady.com
URL:https://www.sbcbeer.com/event/build-a-board-w-the-cheese-lady/
LOCATION:Susquehanna Brewing Co.\, 635 South Main St.\, Pittston\, PA\, 18640\, United States
ATTACH;FMTTYPE=image/jpeg:https://www.sbcbeer.com/wp-content/uploads/2023/11/cheese-board.jpg
ORGANIZER;CN="The Cheese Lady":MAILTO:info@cheese-lady.com
END:VEVENT
END:VCALENDAR