BEGIN:VCALENDAR
VERSION:2.0
PRODID:-//Northeast Pennsylvania Craft Brewery | Susquehanna Brewing Co. - ECPv6.15.18//NONSGML v1.0//EN
CALSCALE:GREGORIAN
METHOD:PUBLISH
X-ORIGINAL-URL:https://www.sbcbeer.com
X-WR-CALDESC:Events for Northeast Pennsylvania Craft Brewery | Susquehanna Brewing Co.
REFRESH-INTERVAL;VALUE=DURATION:PT1H
X-Robots-Tag:noindex
X-PUBLISHED-TTL:PT1H
BEGIN:VTIMEZONE
TZID:UTC
BEGIN:STANDARD
TZOFFSETFROM:+0000
TZOFFSETTO:+0000
TZNAME:UTC
DTSTART:20220101T000000
END:STANDARD
END:VTIMEZONE
BEGIN:VEVENT
DTSTART;TZID=UTC:20230817T190000
DTEND;TZID=UTC:20230817T210000
DTSTAMP:20260419T134831
CREATED:20230811T173503Z
LAST-MODIFIED:20230811T173504Z
UID:15357-1692298800-1692306000@www.sbcbeer.com
SUMMARY:Brewery Bingo
DESCRIPTION:BINGO! is exactly what you could be yelling the third Thursday of every month! We drink\, we play\, we win! Always a great time when our friend Al is calling bingo. \nBingo is free to play but you must be 21 to win.
URL:https://www.sbcbeer.com/event/brewery-bingo-18-2/
LOCATION:Susquehanna Brewing Co.\, 635 South Main St.\, Pittston\, PA\, 18640\, United States
ATTACH;FMTTYPE=image/jpeg:https://www.sbcbeer.com/wp-content/uploads/2023/01/Brewery-Bingo.jpg
END:VEVENT
END:VCALENDAR