BEGIN:VCALENDAR
VERSION:2.0
PRODID:-//Northeast Pennsylvania Craft Brewery | Susquehanna Brewing Co. - ECPv6.15.18//NONSGML v1.0//EN
CALSCALE:GREGORIAN
METHOD:PUBLISH
X-ORIGINAL-URL:https://www.sbcbeer.com
X-WR-CALDESC:Events for Northeast Pennsylvania Craft Brewery | Susquehanna Brewing Co.
REFRESH-INTERVAL;VALUE=DURATION:PT1H
X-Robots-Tag:noindex
X-PUBLISHED-TTL:PT1H
BEGIN:VTIMEZONE
TZID:UTC
BEGIN:STANDARD
TZOFFSETFROM:+0000
TZOFFSETTO:+0000
TZNAME:UTC
DTSTART:20220101T000000
END:STANDARD
END:VTIMEZONE
BEGIN:VEVENT
DTSTART;TZID=UTC:20231122T160000
DTEND;TZID=UTC:20231122T210000
DTSTAMP:20260421T095553
CREATED:20231102T184132Z
LAST-MODIFIED:20231102T184132Z
UID:15503-1700668800-1700686800@www.sbcbeer.com
SUMMARY:Food Truck: Steal Your Plate Tacos
DESCRIPTION:Quick and delicious\, these guys know their way around a taco. Pregame the biggest food holiday of the year with tacos\, live music from Stranger Behavior\, good beer and your chosen family here at the brewery!
URL:https://www.sbcbeer.com/event/food-truck-steal-your-plate-tacos-2/
LOCATION:Susquehanna Brewing Co.\, 635 South Main St.\, Pittston\, PA\, 18640\, United States
ATTACH;FMTTYPE=image/jpeg:https://www.sbcbeer.com/wp-content/uploads/2023/08/Steal-Your-Plate-Menu.jpg
END:VEVENT
BEGIN:VEVENT
DTSTART;TZID=UTC:20231122T180000
DTEND;TZID=UTC:20231122T210000
DTSTAMP:20260421T095553
CREATED:20231102T183504Z
LAST-MODIFIED:20231102T183504Z
UID:15501-1700676000-1700686800@www.sbcbeer.com
SUMMARY:Live Music: Stranger Behavior
DESCRIPTION:Celebrate Thanksgiving Eve enjoying great beer with people you want to see for the holiday eating tacos (!) from Steal Your Plate Tacos! Save the turkey for the next day\, we’re pregaming for the big day inside the brewery!
URL:https://www.sbcbeer.com/event/live-music-stranger-behavior-2/
LOCATION:Susquehanna Brewing Co.\, 635 South Main St.\, Pittston\, PA\, 18640\, United States
ATTACH;FMTTYPE=image/png:https://www.sbcbeer.com/wp-content/uploads/2023/04/Live-Music-square.png
END:VEVENT
END:VCALENDAR