BEGIN:VCALENDAR
VERSION:2.0
PRODID:-//Northeast Pennsylvania Craft Brewery | Susquehanna Brewing Co. - ECPv6.15.18//NONSGML v1.0//EN
CALSCALE:GREGORIAN
METHOD:PUBLISH
X-WR-CALNAME:Northeast Pennsylvania Craft Brewery | Susquehanna Brewing Co.
X-ORIGINAL-URL:https://www.sbcbeer.com
X-WR-CALDESC:Events for Northeast Pennsylvania Craft Brewery | Susquehanna Brewing Co.
REFRESH-INTERVAL;VALUE=DURATION:PT1H
X-Robots-Tag:noindex
X-PUBLISHED-TTL:PT1H
BEGIN:VTIMEZONE
TZID:UTC
BEGIN:STANDARD
TZOFFSETFROM:+0000
TZOFFSETTO:+0000
TZNAME:UTC
DTSTART:20220101T000000
END:STANDARD
END:VTIMEZONE
BEGIN:VEVENT
DTSTART;TZID=UTC:20231124T130000
DTEND;TZID=UTC:20231124T200000
DTSTAMP:20260419T133444
CREATED:20231102T184637Z
LAST-MODIFIED:20231102T184637Z
UID:15507-1700830800-1700856000@www.sbcbeer.com
SUMMARY:Food Truck: Cousin's Lobster Truck
DESCRIPTION:Shake off that turkey and green bean casserole\, it’s time for LOBSTER! \nGet out early for some Black Friday shopping then head to the brewery for a celebratory beer and lobster roll. You won’t regret it.
URL:https://www.sbcbeer.com/event/food-truck-cousins-lobster-truck/
LOCATION:Susquehanna Brewing Co.\, 635 South Main St.\, Pittston\, PA\, 18640\, United States
ATTACH;FMTTYPE=image/png:https://www.sbcbeer.com/wp-content/uploads/2023/02/cousins-lobster.png
END:VEVENT
BEGIN:VEVENT
DTSTART;TZID=UTC:20231124T180000
DTEND;TZID=UTC:20231124T210000
DTSTAMP:20260419T133444
CREATED:20231102T185039Z
LAST-MODIFIED:20231102T185039Z
UID:15509-1700848800-1700859600@www.sbcbeer.com
SUMMARY:Live Music: Last Call Beautiful
DESCRIPTION:By now you’ve had enough shopping. Get your lobster fill and grab a beer because these guys are here for a good time! Country music like it should be!
URL:https://www.sbcbeer.com/event/live-music-last-call-beautiful-2/
LOCATION:Susquehanna Brewing Co.\, 635 South Main St.\, Pittston\, PA\, 18640\, United States
ATTACH;FMTTYPE=image/png:https://www.sbcbeer.com/wp-content/uploads/2023/04/Live-Music-square.png
END:VEVENT
END:VCALENDAR