BEGIN:VCALENDAR
VERSION:2.0
PRODID:-//Northeast Pennsylvania Craft Brewery | Susquehanna Brewing Co. - ECPv6.15.18//NONSGML v1.0//EN
CALSCALE:GREGORIAN
METHOD:PUBLISH
X-WR-CALNAME:Northeast Pennsylvania Craft Brewery | Susquehanna Brewing Co.
X-ORIGINAL-URL:https://www.sbcbeer.com
X-WR-CALDESC:Events for Northeast Pennsylvania Craft Brewery | Susquehanna Brewing Co.
REFRESH-INTERVAL;VALUE=DURATION:PT1H
X-Robots-Tag:noindex
X-PUBLISHED-TTL:PT1H
BEGIN:VTIMEZONE
TZID:UTC
BEGIN:STANDARD
TZOFFSETFROM:+0000
TZOFFSETTO:+0000
TZNAME:UTC
DTSTART:20220101T000000
END:STANDARD
END:VTIMEZONE
BEGIN:VEVENT
DTSTART;TZID=UTC:20231125T180000
DTEND;TZID=UTC:20231125T210000
DTSTAMP:20260419T171448
CREATED:20231102T185520Z
LAST-MODIFIED:20231219T191108Z
UID:15511-1700935200-1700946000@www.sbcbeer.com
SUMMARY:Live Music: We the Living
DESCRIPTION:Saturday nights are for friends. You may have come in for the holiday to see your family but nothing says you can’t save a night for your college bestie\, date night since the kids are off from school for a few days or just because you missed your favorite beertenders… Oh yeah and a jammin good band always makes the night more fun!
URL:https://www.sbcbeer.com/event/live-music-we-the-living-3/
LOCATION:Susquehanna Brewing Co.\, 635 South Main St.\, Pittston\, PA\, 18640\, United States
ATTACH;FMTTYPE=image/png:https://www.sbcbeer.com/wp-content/uploads/2023/04/Live-Music-square.png
END:VEVENT
END:VCALENDAR