BEGIN:VCALENDAR
VERSION:2.0
PRODID:-//Northeast Pennsylvania Craft Brewery | Susquehanna Brewing Co. - ECPv6.15.18//NONSGML v1.0//EN
CALSCALE:GREGORIAN
METHOD:PUBLISH
X-WR-CALNAME:Northeast Pennsylvania Craft Brewery | Susquehanna Brewing Co.
X-ORIGINAL-URL:https://www.sbcbeer.com
X-WR-CALDESC:Events for Northeast Pennsylvania Craft Brewery | Susquehanna Brewing Co.
REFRESH-INTERVAL;VALUE=DURATION:PT1H
X-Robots-Tag:noindex
X-PUBLISHED-TTL:PT1H
BEGIN:VTIMEZONE
TZID:UTC
BEGIN:STANDARD
TZOFFSETFROM:+0000
TZOFFSETTO:+0000
TZNAME:UTC
DTSTART:20220101T000000
END:STANDARD
END:VTIMEZONE
BEGIN:VEVENT
DTSTART;TZID=UTC:20231205T180000
DTEND;TZID=UTC:20231205T200000
DTSTAMP:20260419T171456
CREATED:20231127T172243Z
LAST-MODIFIED:20231127T172243Z
UID:15550-1701799200-1701806400@www.sbcbeer.com
SUMMARY:Paint Night w/Canvas Creation Company
DESCRIPTION:Invite your friends out for a fun holiday activity to relax before the holiday bustle begins! \nThe Canvas Creation Company is back to teach you some fun new skills and maybe turn those paintings into Christmas gifts for a special someone. Class includes all the items needs to make your painting perfect as well as 2 draft beers! \nCheck the Canvas Creation Company Facebook event for details and to make reservations.
URL:https://www.sbcbeer.com/event/paint-night-w-canvas-creation-company/
LOCATION:Susquehanna Brewing Co.\, 635 South Main St.\, Pittston\, PA\, 18640\, United States
END:VEVENT
END:VCALENDAR