BEGIN:VCALENDAR
VERSION:2.0
PRODID:-//Northeast Pennsylvania Craft Brewery | Susquehanna Brewing Co. - ECPv6.15.18//NONSGML v1.0//EN
CALSCALE:GREGORIAN
METHOD:PUBLISH
X-ORIGINAL-URL:https://www.sbcbeer.com
X-WR-CALDESC:Events for Northeast Pennsylvania Craft Brewery | Susquehanna Brewing Co.
REFRESH-INTERVAL;VALUE=DURATION:PT1H
X-Robots-Tag:noindex
X-PUBLISHED-TTL:PT1H
BEGIN:VTIMEZONE
TZID:UTC
BEGIN:STANDARD
TZOFFSETFROM:+0000
TZOFFSETTO:+0000
TZNAME:UTC
DTSTART:20220101T000000
END:STANDARD
END:VTIMEZONE
BEGIN:VEVENT
DTSTART;TZID=UTC:20231214T180000
DTEND;TZID=UTC:20231214T200000
DTSTAMP:20260419T160154
CREATED:20231205T172257Z
LAST-MODIFIED:20231205T172257Z
UID:15584-1702576800-1702584000@www.sbcbeer.com
SUMMARY:Crushed Glass Holiday Workshop w/ The Crooked Branch
DESCRIPTION:Come join us for some holiday crafting\nWe will make (your choice) tree or a snowman\, on a 4×12 hard blocked canvas. All supplies and step by step Instruction will be given. Several color choices and embellishments.\nSuch a fun way to get together before the Holidays.\nReserve you seats today!!!\nemail Angieroback123@gmail.com\nvenmo @Angie-Roback 1975\nBring your bestie or just come join us for the fun!\nFirst beer included with your ticket!
URL:https://www.sbcbeer.com/event/crushed-glass-holiday-workshop-w-the-crooked-branch/
LOCATION:Susquehanna Brewing Co.\, 635 South Main St.\, Pittston\, PA\, 18640\, United States
ATTACH;FMTTYPE=image/jpeg:https://www.sbcbeer.com/wp-content/uploads/2023/12/Crooked-Branch.jpg
ORGANIZER;CN="The Crooked Branch":MAILTO:Angieroback123@gmail.com
END:VEVENT
END:VCALENDAR