BEGIN:VCALENDAR
VERSION:2.0
PRODID:-//Northeast Pennsylvania Craft Brewery | Susquehanna Brewing Co. - ECPv6.15.18//NONSGML v1.0//EN
CALSCALE:GREGORIAN
METHOD:PUBLISH
X-WR-CALNAME:Northeast Pennsylvania Craft Brewery | Susquehanna Brewing Co.
X-ORIGINAL-URL:https://www.sbcbeer.com
X-WR-CALDESC:Events for Northeast Pennsylvania Craft Brewery | Susquehanna Brewing Co.
REFRESH-INTERVAL;VALUE=DURATION:PT1H
X-Robots-Tag:noindex
X-PUBLISHED-TTL:PT1H
BEGIN:VTIMEZONE
TZID:UTC
BEGIN:STANDARD
TZOFFSETFROM:+0000
TZOFFSETTO:+0000
TZNAME:UTC
DTSTART:20220101T000000
END:STANDARD
END:VTIMEZONE
BEGIN:VEVENT
DTSTART;VALUE=DATE:20231224
DTEND;VALUE=DATE:20231225
DTSTAMP:20260419T171452
CREATED:20231214T180416Z
LAST-MODIFIED:20231214T181510Z
UID:15605-1703376000-1703462399@www.sbcbeer.com
SUMMARY:Christmas Eve Hours
DESCRIPTION:The Taproom will be open today 12pm-4pm. Stop in for a pint or to pick up an extra case for your holiday celebrations!
URL:https://www.sbcbeer.com/event/christmas-eve-hours/
LOCATION:PA
ATTACH;FMTTYPE=image/png:https://www.sbcbeer.com/wp-content/uploads/2023/12/Closing-Early-Hours.png
END:VEVENT
END:VCALENDAR