BEGIN:VCALENDAR
VERSION:2.0
PRODID:-//Northeast Pennsylvania Craft Brewery | Susquehanna Brewing Co. - ECPv6.15.18//NONSGML v1.0//EN
CALSCALE:GREGORIAN
METHOD:PUBLISH
X-WR-CALNAME:Northeast Pennsylvania Craft Brewery | Susquehanna Brewing Co.
X-ORIGINAL-URL:https://www.sbcbeer.com
X-WR-CALDESC:Events for Northeast Pennsylvania Craft Brewery | Susquehanna Brewing Co.
REFRESH-INTERVAL;VALUE=DURATION:PT1H
X-Robots-Tag:noindex
X-PUBLISHED-TTL:PT1H
BEGIN:VTIMEZONE
TZID:UTC
BEGIN:STANDARD
TZOFFSETFROM:+0000
TZOFFSETTO:+0000
TZNAME:UTC
DTSTART:20220101T000000
END:STANDARD
END:VTIMEZONE
BEGIN:VEVENT
DTSTART;VALUE=DATE:20231231
DTEND;VALUE=DATE:20240101
DTSTAMP:20260419T171829
CREATED:20231214T184241Z
LAST-MODIFIED:20231214T184241Z
UID:15615-1703980800-1704067199@www.sbcbeer.com
SUMMARY:Limited Hours
DESCRIPTION:Limited hours for New Year’s Eve! \nOpen 12pm – 6pm today!
URL:https://www.sbcbeer.com/event/limited-hours/
LOCATION:PA
ATTACH;FMTTYPE=image/png:https://www.sbcbeer.com/wp-content/uploads/2023/12/Closing-Early-Hours.png
END:VEVENT
END:VCALENDAR