BEGIN:VCALENDAR
VERSION:2.0
PRODID:-//Northeast Pennsylvania Craft Brewery | Susquehanna Brewing Co. - ECPv6.15.18//NONSGML v1.0//EN
CALSCALE:GREGORIAN
METHOD:PUBLISH
X-WR-CALNAME:Northeast Pennsylvania Craft Brewery | Susquehanna Brewing Co.
X-ORIGINAL-URL:https://www.sbcbeer.com
X-WR-CALDESC:Events for Northeast Pennsylvania Craft Brewery | Susquehanna Brewing Co.
REFRESH-INTERVAL;VALUE=DURATION:PT1H
X-Robots-Tag:noindex
X-PUBLISHED-TTL:PT1H
BEGIN:VTIMEZONE
TZID:UTC
BEGIN:STANDARD
TZOFFSETFROM:+0000
TZOFFSETTO:+0000
TZNAME:UTC
DTSTART:20230101T000000
END:STANDARD
END:VTIMEZONE
BEGIN:VEVENT
DTSTART;TZID=UTC:20240412T140000
DTEND;TZID=UTC:20240412T210000
DTSTAMP:20260419T232907
CREATED:20240326T201246Z
LAST-MODIFIED:20240530T185651Z
UID:15778-1712930400-1712955600@www.sbcbeer.com
SUMMARY:Food Truck: Cibo's Pizza
DESCRIPTION:Homemade onsite pizza\, stromboli’s\, wraps and so much more! One bite and you’ll be back in line for more! \nYou won’t find anything you don’t like!
URL:https://www.sbcbeer.com/event/food-truck-cibos-pizza-3/
LOCATION:Susquehanna Brewing Co.\, 635 South Main St.\, Pittston\, PA\, 18640\, United States
ATTACH;FMTTYPE=image/jpeg:https://www.sbcbeer.com/wp-content/uploads/2023/08/Cibo-truck-dark-scaled.jpg
END:VEVENT
END:VCALENDAR