BEGIN:VCALENDAR
VERSION:2.0
PRODID:-//Northeast Pennsylvania Craft Brewery | Susquehanna Brewing Co. - ECPv6.15.18//NONSGML v1.0//EN
CALSCALE:GREGORIAN
METHOD:PUBLISH
X-ORIGINAL-URL:https://www.sbcbeer.com
X-WR-CALDESC:Events for Northeast Pennsylvania Craft Brewery | Susquehanna Brewing Co.
REFRESH-INTERVAL;VALUE=DURATION:PT1H
X-Robots-Tag:noindex
X-PUBLISHED-TTL:PT1H
BEGIN:VTIMEZONE
TZID:UTC
BEGIN:STANDARD
TZOFFSETFROM:+0000
TZOFFSETTO:+0000
TZNAME:UTC
DTSTART:20220101T000000
END:STANDARD
END:VTIMEZONE
BEGIN:VEVENT
DTSTART;TZID=UTC:20240313T170000
DTEND;TZID=UTC:20240313T210000
DTSTAMP:20260419T220434
CREATED:20240306T200217Z
LAST-MODIFIED:20240326T194731Z
UID:15745-1710349200-1710363600@www.sbcbeer.com
SUMMARY:Peculiar Market & Kitchen Pop Up
DESCRIPTION:Fresh\, local ingredients and everything homemade. This rotating menu selection will keep you hooked for what’s coming next. Chef has a flare for the extraordinary and with every bite it shows.
URL:https://www.sbcbeer.com/event/peculiar-market-kitchen-pop-up/
LOCATION:Susquehanna Brewing Co.\, 635 South Main St.\, Pittston\, PA\, 18640\, United States
ATTACH;FMTTYPE=image/jpeg:https://www.sbcbeer.com/wp-content/uploads/2024/01/Peculiar-Kitchen.jpg
END:VEVENT
BEGIN:VEVENT
DTSTART;TZID=UTC:20230603T190000
DTEND;TZID=UTC:20230603T220000
DTSTAMP:20260419T220434
CREATED:20230525T165431Z
LAST-MODIFIED:20240417T171601Z
UID:15191-1685818800-1685829600@www.sbcbeer.com
SUMMARY:Live Music: Butter N'Onions
DESCRIPTION:Not just your favorite pierogie topping\, Butter N’ Onions is one of the areas best acoustic/electric americana band and we can’t wait to have them back!
URL:https://www.sbcbeer.com/event/live-music-butter-nonions/
LOCATION:Susquehanna Brewing Co.\, 635 South Main St.\, Pittston\, PA\, 18640\, United States
ATTACH;FMTTYPE=image/png:https://www.sbcbeer.com/wp-content/uploads/2023/04/Live-Music-square.png
END:VEVENT
END:VCALENDAR