BEGIN:VCALENDAR
VERSION:2.0
PRODID:-//Northeast Pennsylvania Craft Brewery | Susquehanna Brewing Co. - ECPv6.15.18//NONSGML v1.0//EN
CALSCALE:GREGORIAN
METHOD:PUBLISH
X-WR-CALNAME:Northeast Pennsylvania Craft Brewery | Susquehanna Brewing Co.
X-ORIGINAL-URL:https://www.sbcbeer.com
X-WR-CALDESC:Events for Northeast Pennsylvania Craft Brewery | Susquehanna Brewing Co.
REFRESH-INTERVAL;VALUE=DURATION:PT1H
X-Robots-Tag:noindex
X-PUBLISHED-TTL:PT1H
BEGIN:VTIMEZONE
TZID:UTC
BEGIN:STANDARD
TZOFFSETFROM:+0000
TZOFFSETTO:+0000
TZNAME:UTC
DTSTART:20230101T000000
END:STANDARD
END:VTIMEZONE
BEGIN:VEVENT
DTSTART;TZID=UTC:20241026T160000
DTEND;TZID=UTC:20241026T210000
DTSTAMP:20260419T174904
CREATED:20241008T233940Z
LAST-MODIFIED:20241008T234009Z
UID:15977-1729958400-1729976400@www.sbcbeer.com
SUMMARY:Adult Trunk or Treat 21+
DESCRIPTION:With the huge success we had in 2023\, Susquehanna Brewing Co will once again be hosting its Adult Trunk or Treat!  This years event will be similar to last year. We will have vendors serving up their own spooky treats\, food trucks and music. List to follow\, stay tuned! The Pittston Santa  Squad will againbe hosting our famous “keg bowling”. And we’ll have our SBC scavenger hunt! We will also be picking a winner for best costume\, single\, couple\, and group! Grab your tickets on our square link or in our taproom.
URL:https://www.sbcbeer.com/event/15977/
LOCATION:Susquehanna Brewing Co.\, 635 South Main St.\, Pittston\, PA\, 18640\, United States
ATTACH;FMTTYPE=image/png:https://www.sbcbeer.com/wp-content/uploads/2024/10/TrunkOrTreatPosterImg-1.png
ORGANIZER;CN="Susquehanna Brewing Co.":MAILTO:info@sbcbeer.com
END:VEVENT
END:VCALENDAR