BEGIN:VCALENDAR
VERSION:2.0
PRODID:-//Northeast Pennsylvania Craft Brewery | Susquehanna Brewing Co. - ECPv6.15.18//NONSGML v1.0//EN
CALSCALE:GREGORIAN
METHOD:PUBLISH
X-WR-CALNAME:Northeast Pennsylvania Craft Brewery | Susquehanna Brewing Co.
X-ORIGINAL-URL:https://www.sbcbeer.com
X-WR-CALDESC:Events for Northeast Pennsylvania Craft Brewery | Susquehanna Brewing Co.
REFRESH-INTERVAL;VALUE=DURATION:PT1H
X-Robots-Tag:noindex
X-PUBLISHED-TTL:PT1H
BEGIN:VTIMEZONE
TZID:UTC
BEGIN:STANDARD
TZOFFSETFROM:+0000
TZOFFSETTO:+0000
TZNAME:UTC
DTSTART:20230101T000000
END:STANDARD
END:VTIMEZONE
BEGIN:VEVENT
DTSTART;TZID=UTC:20241123T140000
DTEND;TZID=UTC:20241123T200000
DTSTAMP:20260419T162528
CREATED:20241118T175634Z
LAST-MODIFIED:20241118T175634Z
UID:16018-1732370400-1732392000@www.sbcbeer.com
SUMMARY:Food Truck: 4 the Love of Breakfast
DESCRIPTION:Gourmet breakfast and brunch made with Love! We provide premium quality meals with fresh ingredients you can taste and feel. We support our community and local farms by relying on them for high-quality goods. – All FIRST RESPONDERS eat at a discounted price! Thank you for risking it all for the protection of our Community.
URL:https://www.sbcbeer.com/event/food-truck-4-the-love-of-breakfast-3/
LOCATION:Susquehanna Brewing Co.\, 635 South Main St.\, Pittston\, PA\, 18640\, United States
ATTACH;FMTTYPE=image/jpeg:https://www.sbcbeer.com/wp-content/uploads/2024/11/290268005_111038278315590_5103954026793514694_n.jpg
ORGANIZER;CN="Susquehanna Brewing Co.":MAILTO:info@sbcbeer.com
END:VEVENT
BEGIN:VEVENT
DTSTART;TZID=UTC:20241123T180000
DTEND;TZID=UTC:20241123T210000
DTSTAMP:20260419T162528
CREATED:20241118T180934Z
LAST-MODIFIED:20241118T180934Z
UID:16021-1732384800-1732395600@www.sbcbeer.com
SUMMARY:Live Music: The Music Room
DESCRIPTION:The MUSIC ROOM plays 60’s\, 70’s & 80’s Rock featuring great vocal harmonies!
URL:https://www.sbcbeer.com/event/live-music-the-music-room/
LOCATION:Susquehanna Brewing Co.\, 635 South Main St.\, Pittston\, PA\, 18640\, United States
ATTACH;FMTTYPE=image/png:https://www.sbcbeer.com/wp-content/uploads/2024/11/MusicRoomBand.png
ORGANIZER;CN="Susquehanna Brewing Co.":MAILTO:info@sbcbeer.com
END:VEVENT
END:VCALENDAR